BEGIN:VCALENDAR
VERSION:2.0
PRODID:-//MT Events - ECPv6.15.20//NONSGML v1.0//EN
CALSCALE:GREGORIAN
METHOD:PUBLISH
X-WR-CALNAME:MT Events
X-ORIGINAL-URL:https://mtevents.org
X-WR-CALDESC:Events for MT Events
REFRESH-INTERVAL;VALUE=DURATION:PT1H
X-Robots-Tag:noindex
X-PUBLISHED-TTL:PT1H
BEGIN:VTIMEZONE
TZID:Europe/London
BEGIN:DAYLIGHT
TZOFFSETFROM:+0000
TZOFFSETTO:+0100
TZNAME:BST
DTSTART:20250330T010000
END:DAYLIGHT
BEGIN:STANDARD
TZOFFSETFROM:+0100
TZOFFSETTO:+0000
TZNAME:GMT
DTSTART:20251026T010000
END:STANDARD
BEGIN:DAYLIGHT
TZOFFSETFROM:+0000
TZOFFSETTO:+0100
TZNAME:BST
DTSTART:20260329T010000
END:DAYLIGHT
BEGIN:STANDARD
TZOFFSETFROM:+0100
TZOFFSETTO:+0000
TZNAME:GMT
DTSTART:20261025T010000
END:STANDARD
BEGIN:DAYLIGHT
TZOFFSETFROM:+0000
TZOFFSETTO:+0100
TZNAME:BST
DTSTART:20270328T010000
END:DAYLIGHT
BEGIN:STANDARD
TZOFFSETFROM:+0100
TZOFFSETTO:+0000
TZNAME:GMT
DTSTART:20271031T010000
END:STANDARD
END:VTIMEZONE
BEGIN:VEVENT
DTSTART;TZID=Europe/London:20261205T000000
DTEND;TZID=Europe/London:20261205T235959
DTSTAMP:20260420T015609
CREATED:20260226T130639Z
LAST-MODIFIED:20260226T130639Z
UID:300-1796428800-1796515199@mtevents.org
SUMMARY:The Crewe Open 2026
DESCRIPTION:Entries not yet open.
URL:https://mtevents.org/event/the-crewe-open-2026/
LOCATION:Crewe Vagrants Sports Club\, Newcastle Road\, Nantwich\, Cheshire\, CW5 7EP\, United Kingdom
CATEGORIES:Tournaments
END:VEVENT
BEGIN:VEVENT
DTSTART;TZID=Europe/London:20261219T000000
DTEND;TZID=Europe/London:20261219T235959
DTSTAMP:20260420T015609
CREATED:20260226T130928Z
LAST-MODIFIED:20260226T130928Z
UID:303-1797638400-1797724799@mtevents.org
SUMMARY:The Lindgate Classic 2026
DESCRIPTION:Entries not yet open.
URL:https://mtevents.org/event/the-lindgate-classic-2026/
LOCATION:Eastgate Tennis\, Bowls and Squash Club\, Langworthgate\, Lincoln\, LN2 4AD\, United Kingdom
CATEGORIES:Tournaments
END:VEVENT
END:VCALENDAR