BEGIN:VCALENDAR
VERSION:2.0
PRODID:-//MT Events - ECPv6.15.20//NONSGML v1.0//EN
CALSCALE:GREGORIAN
METHOD:PUBLISH
X-ORIGINAL-URL:https://mtevents.org
X-WR-CALDESC:Events for MT Events
REFRESH-INTERVAL;VALUE=DURATION:PT1H
X-Robots-Tag:noindex
X-PUBLISHED-TTL:PT1H
BEGIN:VTIMEZONE
TZID:Europe/London
BEGIN:DAYLIGHT
TZOFFSETFROM:+0000
TZOFFSETTO:+0100
TZNAME:BST
DTSTART:20260329T010000
END:DAYLIGHT
BEGIN:STANDARD
TZOFFSETFROM:+0100
TZOFFSETTO:+0000
TZNAME:GMT
DTSTART:20261025T010000
END:STANDARD
BEGIN:DAYLIGHT
TZOFFSETFROM:+0000
TZOFFSETTO:+0100
TZNAME:BST
DTSTART:20270328T010000
END:DAYLIGHT
BEGIN:STANDARD
TZOFFSETFROM:+0100
TZOFFSETTO:+0000
TZNAME:GMT
DTSTART:20271031T010000
END:STANDARD
BEGIN:DAYLIGHT
TZOFFSETFROM:+0000
TZOFFSETTO:+0100
TZNAME:BST
DTSTART:20280326T010000
END:DAYLIGHT
BEGIN:STANDARD
TZOFFSETFROM:+0100
TZOFFSETTO:+0000
TZNAME:GMT
DTSTART:20281029T010000
END:STANDARD
END:VTIMEZONE
BEGIN:VEVENT
DTSTART;TZID=Europe/London:20270109T000000
DTEND;TZID=Europe/London:20270109T235959
DTSTAMP:20260420T003518
CREATED:20260226T131646Z
LAST-MODIFIED:20260226T132119Z
UID:307-1799452800-1799539199@mtevents.org
SUMMARY:The Nottingham Open 2027
DESCRIPTION:Entries not yet open.
URL:https://mtevents.org/event/the-nottingham-open-2026/
LOCATION:Nottingham Squash Club\, Tattershall Drive\, Nottingham\, Nottinghamshire\, NG7 IBX\, United Kingdom
CATEGORIES:Tournaments
END:VEVENT
BEGIN:VEVENT
DTSTART;TZID=Europe/London:20270124T000000
DTEND;TZID=Europe/London:20270124T235959
DTSTAMP:20260420T003518
CREATED:20260226T132047Z
LAST-MODIFIED:20260226T132047Z
UID:309-1800748800-1800835199@mtevents.org
SUMMARY:The Comberton Cup 2027
DESCRIPTION:Entries not yet open.
URL:https://mtevents.org/event/the-comberton-cup-2027/
LOCATION:Comberton Squash Club\, Comberton\, Cambridge\, CB23 7DU\, United Kingdom
CATEGORIES:Tournaments
END:VEVENT
BEGIN:VEVENT
DTSTART;TZID=Europe/London:20270130T000000
DTEND;TZID=Europe/London:20270130T235959
DTSTAMP:20260420T003518
CREATED:20260226T132229Z
LAST-MODIFIED:20260226T132320Z
UID:313-1801267200-1801353599@mtevents.org
SUMMARY:The Grove Ladies Open 2027
DESCRIPTION:Entries not yet open.
URL:https://mtevents.org/event/the-grove-ladies-open-2027/
LOCATION:Grove Squash Club\, Newark Sports and Fitness Centre\, Newark-on-Trent\, Newark\, United Kingdom
CATEGORIES:Tournaments
END:VEVENT
END:VCALENDAR