BEGIN:VCALENDAR
VERSION:2.0
PRODID:-//MT Events - ECPv6.15.20//NONSGML v1.0//EN
CALSCALE:GREGORIAN
METHOD:PUBLISH
X-WR-CALNAME:MT Events
X-ORIGINAL-URL:https://mtevents.org
X-WR-CALDESC:Events for MT Events
REFRESH-INTERVAL;VALUE=DURATION:PT1H
X-Robots-Tag:noindex
X-PUBLISHED-TTL:PT1H
BEGIN:VTIMEZONE
TZID:Europe/London
BEGIN:DAYLIGHT
TZOFFSETFROM:+0000
TZOFFSETTO:+0100
TZNAME:BST
DTSTART:20250330T010000
END:DAYLIGHT
BEGIN:STANDARD
TZOFFSETFROM:+0100
TZOFFSETTO:+0000
TZNAME:GMT
DTSTART:20251026T010000
END:STANDARD
BEGIN:DAYLIGHT
TZOFFSETFROM:+0000
TZOFFSETTO:+0100
TZNAME:BST
DTSTART:20260329T010000
END:DAYLIGHT
BEGIN:STANDARD
TZOFFSETFROM:+0100
TZOFFSETTO:+0000
TZNAME:GMT
DTSTART:20261025T010000
END:STANDARD
BEGIN:DAYLIGHT
TZOFFSETFROM:+0000
TZOFFSETTO:+0100
TZNAME:BST
DTSTART:20270328T010000
END:DAYLIGHT
BEGIN:STANDARD
TZOFFSETFROM:+0100
TZOFFSETTO:+0000
TZNAME:GMT
DTSTART:20271031T010000
END:STANDARD
END:VTIMEZONE
BEGIN:VTIMEZONE
TZID:Europe/Amsterdam
BEGIN:DAYLIGHT
TZOFFSETFROM:+0100
TZOFFSETTO:+0200
TZNAME:CEST
DTSTART:20250330T010000
END:DAYLIGHT
BEGIN:STANDARD
TZOFFSETFROM:+0200
TZOFFSETTO:+0100
TZNAME:CET
DTSTART:20251026T010000
END:STANDARD
BEGIN:DAYLIGHT
TZOFFSETFROM:+0100
TZOFFSETTO:+0200
TZNAME:CEST
DTSTART:20260329T010000
END:DAYLIGHT
BEGIN:STANDARD
TZOFFSETFROM:+0200
TZOFFSETTO:+0100
TZNAME:CET
DTSTART:20261025T010000
END:STANDARD
BEGIN:DAYLIGHT
TZOFFSETFROM:+0100
TZOFFSETTO:+0200
TZNAME:CEST
DTSTART:20270328T010000
END:DAYLIGHT
BEGIN:STANDARD
TZOFFSETFROM:+0200
TZOFFSETTO:+0100
TZNAME:CET
DTSTART:20271031T010000
END:STANDARD
END:VTIMEZONE
BEGIN:VEVENT
DTSTART;TZID=Europe/London:20260719T000000
DTEND;TZID=Europe/London:20260719T235959
DTSTAMP:20260420T075714
CREATED:20260224T120255Z
LAST-MODIFIED:20260226T125241Z
UID:223-1784419200-1784505599@mtevents.org
SUMMARY:The Lincoln Open 2026
DESCRIPTION:Entries not yet open.
URL:https://mtevents.org/event/the-lincoln-open/
LOCATION:Lindum Sports Association\, St. Giles Avenue\, Lincoln\, Lincolnshire\, LN2 $PE\, United Kingdom
CATEGORIES:Tournaments
END:VEVENT
BEGIN:VEVENT
DTSTART;TZID=Europe/London:20260711T000000
DTEND;TZID=Europe/London:20260712T235959
DTSTAMP:20260420T075714
CREATED:20260224T120219Z
LAST-MODIFIED:20260226T125032Z
UID:221-1783728000-1783900799@mtevents.org
SUMMARY:The Grantham Open 2026
DESCRIPTION:Entries not yet open.
URL:https://mtevents.org/event/the-grantham-open/
LOCATION:Grantham Squash and Fitness Club\, Harlaxton Road\, Grantham\, NG31 7JX\, United Kingdom
CATEGORIES:Tournaments
END:VEVENT
BEGIN:VEVENT
DTSTART;TZID=Europe/London:20260620T000000
DTEND;TZID=Europe/London:20260621T235959
DTSTAMP:20260420T075714
CREATED:20260112T000006Z
LAST-MODIFIED:20260416T131926Z
UID:163-1781913600-1782086399@mtevents.org
SUMMARY:The Frans Otten Cup 2026
DESCRIPTION:Entry Form – https://docs.google.com/forms/d/e/1FAIpQLSfXR4VXxhqIl53oK3wrR02bbxlgMPCQWq1CflWG8K_2vjJxAQ/viewform \n \nGraded Squash Tournament at The Frans Otten Stadium Club\, in Amsterdam. \nThe tournament will take place over two days (20th & 21st June) and will run alongside a Saturday evening BBQ! Players will get two matches per day\, competing for their final placement. All standards are welcome; players will be grouped into grades according to their SquashLevels rating\, ensuring they get matches against people of a similar standard. \nAll winners will receive a trophy and prize. All results will be recorded on SquashLevels. \nWe have now also added a racketball grade! Players have the option to enter the racketball tournament only\, or they can add this on and play in both the racketball and Squash (all for the cost of 1 entry). \nClosing Date: June 1st 2026. \nEntry fees will not be refunded for withdrawals after 10/05/26\, as costs will already have been incurred by the organiser by then. \nEntries so far (as of 16/04/2026): \n\n\n\n\n\nOdhran Imlah\n\n\nSamuel kamphuys\n\n\nOliver Duffett\n\n\nJames Harrington\n\n\nNid Anantharaman\n\n\nAlan Cantes\n\n\nPeter Knox\n\n\nWilliam Duffett\n\n\nTimothy Humphries\n\n\nZak Potter\n\n\nLuke Brown\n\n\nAshleigh Kemp\n\n\nLuke Catt\n\n\nMarat Reimers\n\n\nMarat Reimers\n\n\nAlfie Loakes\n\n\nAlex Hefford\n\n\nAriana\n\n\nLindsey Campbell\n\n\n\n 
URL:https://mtevents.org/event/frans-otten-cup-2026/
LOCATION:Frans Otten Stadion\, IJsbaanpad 43\, 1076 CV\, Amsterdam\, Netherlands
CATEGORIES:Tournaments
END:VEVENT
BEGIN:VEVENT
DTSTART;TZID=Europe/Amsterdam:20260618T180000
DTEND;TZID=Europe/Amsterdam:20260618T200000
DTSTAMP:20260420T075714
CREATED:20260416T143811Z
LAST-MODIFIED:20260416T143820Z
UID:426-1781805600-1781812800@mtevents.org
SUMMARY:Adult Coaching Clinic in Amsterdam
DESCRIPTION:Special Clinics
URL:https://mtevents.org/event/adult-coaching-clinic-in-amsterdam/
LOCATION:Frans Otten Stadion\, IJsbaanpad 43\, 1076 CV\, Amsterdam\, Netherlands
CATEGORIES:Training
END:VEVENT
BEGIN:VEVENT
DTSTART;TZID=Europe/London:20260606T103000
DTEND;TZID=Europe/London:20260606T133000
DTSTAMP:20260420T075714
CREATED:20260405T132355Z
LAST-MODIFIED:20260405T132459Z
UID:418-1780741800-1780752600@mtevents.org
SUMMARY:Women's Squash Confidence Workshop
DESCRIPTION:A high-energy practical session packed with creative squash ideas to inspire your coaching and bring your sessions to life. \n \n \nSign up here – EnglandSquash
URL:https://mtevents.org/event/womens-squash-confidence-workshop/
LOCATION:Nottingham Squash Club\, Tattershall Drive\, Nottingham\, Nottinghamshire\, NG7 IBX\, United Kingdom
CATEGORIES:Training
END:VEVENT
BEGIN:VEVENT
DTSTART;TZID=Europe/London:20260530T000000
DTEND;TZID=Europe/London:20260530T235959
DTSTAMP:20260420T075714
CREATED:20260224T120127Z
LAST-MODIFIED:20260331T162510Z
UID:219-1780099200-1780185599@mtevents.org
SUMMARY:The Collingham Open 2026
DESCRIPTION:Entry form – https://forms.gle/YFaUb5JBfrKjUF536 \nGraded Squash Tournament at Collingham and Linton Cricket Club\, LS22 5BL\, on Saturday 30th May 2026 (10am~7pm). All standards are welcome (usually we get entrants with SL ratings ranging from 0-20\,000); players will be placed into grades (A-E) according to their SquashLevels ratings (where possible)\, ensuring everyone gets fairly matched games. Everyone should get 3 matches (best of 3) over the course of the day. You will play out for your final place. All winners will receive a trophy. \nFor more info\, email – gradedsquashtour@gmail.com
URL:https://mtevents.org/event/the-collingham-open/
LOCATION:Collingham and Linton Cricket Club\, Harewood Road\, Collingham\, Wetherby\, LS22 5BL\, United Kingdom
CATEGORIES:Tournaments
END:VEVENT
BEGIN:VEVENT
DTSTART;TZID=Europe/London:20260516T000000
DTEND;TZID=Europe/London:20260516T235959
DTSTAMP:20260420T075714
CREATED:20260320T161649Z
LAST-MODIFIED:20260320T162346Z
UID:391-1778889600-1778975999@mtevents.org
SUMMARY:The Burton Open 2026
DESCRIPTION:Graded Squash event\, suitable for any players with a SquashLevel rating between 0-50\,000. The event will be held at Burton Squash Club\, across 4 courts. It’s a lovely private members club\, with a sunny balcony/terrace\, big bar area overlooking the courts\, nice changing rooms\, and ample free parking. It will be run over one day (10am~7pm) and players will be grouped into grades with people of a similar standard. \nEntry form – https://forms.gle/MsHcnRTJVhrt3vyq9 \nWithdrawal deadline – 20/4/26. Withdrawals after this date will not be refunded\, as costs will have already been incurred by the organizer after this date.
URL:https://mtevents.org/event/the-burton-squash-open-2026/
LOCATION:Burton Tennis and Squash Club\, Ashby Road\, Burton-on-Trent\, Derbyshire\, DE150LQ\, United Kingdom
CATEGORIES:Tournaments
END:VEVENT
BEGIN:VEVENT
DTSTART;TZID=Europe/London:20260411T000000
DTEND;TZID=Europe/London:20260411T235959
DTSTAMP:20260420T075714
CREATED:20260226T113601Z
LAST-MODIFIED:20260329T201110Z
UID:265-1775865600-1775951999@mtevents.org
SUMMARY:The Nottingham Racketball Open 26
DESCRIPTION:Graded Racketball (Squash57) Tournament at Nottingham Squash Club (NG7 1BX) on Saturday 11th April 2026 (10am~7pm). All standards welcome; players will be placed into grades according to their RacketballLevels ratings (where possible)\, ensuring everyone gets fairly matched games. All winners will receive a trophy. \nEntries are now only £22.50\, as T-Shirts are no longer available/have been ordered. \nEntry form – https://docs.google.com/forms/d/e/1FAIpQLSfnWu2qAe-OrTCp5MRySNrbIbBzvGu8Ki9IBaKBS8kPy24DCA/viewform?usp=sharing&ouid=112018752901399286131 \nEntries so far (last updated on 29/3/26)  \n\n\n\n\n\nElliot smith\n\n\nSteve Smith\n\n\nBen Bryant\n\n\nAndrew Hopwood\n\n\nNoah Duckworth\n\n\nColm Harrison\n\n\nMillie Tomlinson\n\n\nIan Rigby\n\n\nSimon Watt\n\n\nMartin Weston\n\n\nDaniel Goodman\n\n\nrob allen\n\n\nLal Sharma\n\n\nCaity Moore\n\n\nSimon Wills\n\n\nNick Marshall\n\n\nHelen Rees\n\n\nCaity Moore\n\n\nandrew ward
URL:https://mtevents.org/event/the-nottingham-racketball-open-26/
LOCATION:Nottingham Squash Club\, Tattershall Drive\, Nottingham\, Nottinghamshire\, NG7 IBX\, United Kingdom
CATEGORIES:Tournaments
END:VEVENT
BEGIN:VEVENT
DTSTART;TZID=Europe/London:20260404T000000
DTEND;TZID=Europe/London:20260404T235959
DTSTAMP:20260420T075714
CREATED:20260224T115739Z
LAST-MODIFIED:20260330T145107Z
UID:211-1775260800-1775347199@mtevents.org
SUMMARY:The Grove Park Open 2026
DESCRIPTION:Graded Squash Tournament at Grove Park Squash Club\, Cheadle\, on Saturday 4th April 2026 (10am~7pm). All standards welcome; players will be placed into grades according to their SquashLevels ratings (where possible)\, ensuring everyone gets fairly matched games. All winners will receive a trophy. For more info\, email gradedsquashtour@gmail.com \nEntry form – https://docs.google.com/forms/d/e/1FAIpQLSd0x8WG_TpNPqzRZtQcfdrJbplWvT-RMViJBS6Wox9cTUylaw/viewform?usp=sharing&ouid=112018752901399286131 \n  \n  \nEntries so far (last updated on 30/3/26): \nA Grade \n\n\n\n\n\nNoah Duckworth\n\n\nJosh Underhill\n\n\nNihad Vaid\n\n\nThomas Alman\n\n\nJamie McAllister\n\n\nHilary Kenyon\n\n\nDavid Dave\n\n\nSam Mcparland\n\n\n\nB Grade \n\n\n\n\n\nKhizar mahmood\n\n\nJames Morton\n\n\nGareth Ainsworth\n\n\nSteve Kaye\n\n\nHarry Douthwaite\n\n\nDaniel White\n\n\nKyle Chatterley\n\n\nAtta ul Haq\n\n\n\nC Grade \n\n\n\n\n\nBecca Polley\n\n\nArthur White\n\n\nSafiya Reza\n\n\nVictoria Ainsworth\n\n\nHelen Evans\n\n\nMichelle Kaye\n\n\nTamar kaye\n\n\nLouise Bezer\n\n\n\nWithdrawal deadline – 9/3/26. Withdrawals after this date will not be refunded\, as costs will have already been incurred by the organizer after this date.
URL:https://mtevents.org/event/the-grove-park-open/
LOCATION:Grove Park Squash Club\, Grove House\, Grove Lane\, Cheadle Hulme\, Cheadle\, SK8 7NB\, United Kingdom
CATEGORIES:Tournaments
END:VEVENT
END:VCALENDAR