BEGIN:VCALENDAR
VERSION:2.0
PRODID:-//MT Events - ECPv6.15.20//NONSGML v1.0//EN
CALSCALE:GREGORIAN
METHOD:PUBLISH
X-ORIGINAL-URL:https://mtevents.org
X-WR-CALDESC:Events for MT Events
REFRESH-INTERVAL;VALUE=DURATION:PT1H
X-Robots-Tag:noindex
X-PUBLISHED-TTL:PT1H
BEGIN:VTIMEZONE
TZID:Europe/London
BEGIN:DAYLIGHT
TZOFFSETFROM:+0000
TZOFFSETTO:+0100
TZNAME:BST
DTSTART:20260329T010000
END:DAYLIGHT
BEGIN:STANDARD
TZOFFSETFROM:+0100
TZOFFSETTO:+0000
TZNAME:GMT
DTSTART:20261025T010000
END:STANDARD
BEGIN:DAYLIGHT
TZOFFSETFROM:+0000
TZOFFSETTO:+0100
TZNAME:BST
DTSTART:20270328T010000
END:DAYLIGHT
BEGIN:STANDARD
TZOFFSETFROM:+0100
TZOFFSETTO:+0000
TZNAME:GMT
DTSTART:20271031T010000
END:STANDARD
BEGIN:DAYLIGHT
TZOFFSETFROM:+0000
TZOFFSETTO:+0100
TZNAME:BST
DTSTART:20280326T010000
END:DAYLIGHT
BEGIN:STANDARD
TZOFFSETFROM:+0100
TZOFFSETTO:+0000
TZNAME:GMT
DTSTART:20281029T010000
END:STANDARD
END:VTIMEZONE
BEGIN:VEVENT
DTSTART;TZID=Europe/London:20270320T000000
DTEND;TZID=Europe/London:20270320T235959
DTSTAMP:20260420T062648
CREATED:20260403T182441Z
LAST-MODIFIED:20260404T201613Z
UID:411-1805500800-1805587199@mtevents.org
SUMMARY:The Leicester Open 2027
DESCRIPTION:Entries not yet open.
URL:https://mtevents.org/event/the-leicester-open-2026/
LOCATION:Leicester Squash Club\, 189 London Rd\, Leicester\, LE2 1ZE\, United Kingdom
CATEGORIES:Tournaments
END:VEVENT
END:VCALENDAR